Package: geNetClassifier Version: 1.50.0 Command: /Library/Frameworks/R.framework/Resources/bin/R CMD check --install=check:geNetClassifier.install-out.txt --library=/Library/Frameworks/R.framework/Resources/library --no-vignettes --timings geNetClassifier_1.50.0.tar.gz StartedAt: 2025-10-30 21:15:06 -0400 (Thu, 30 Oct 2025) EndedAt: 2025-10-30 21:16:42 -0400 (Thu, 30 Oct 2025) EllapsedTime: 95.9 seconds RetCode: 0 Status: OK CheckDir: geNetClassifier.Rcheck Warnings: 0