Package: geNetClassifier Version: 1.49.0 Command: /Library/Frameworks/R.framework/Resources/bin/R CMD check --install=check:geNetClassifier.install-out.txt --library=/Library/Frameworks/R.framework/Resources/library --no-vignettes --timings geNetClassifier_1.49.0.tar.gz StartedAt: 2025-10-26 19:50:14 -0400 (Sun, 26 Oct 2025) EndedAt: 2025-10-26 19:50:44 -0400 (Sun, 26 Oct 2025) EllapsedTime: 29.4 seconds RetCode: 0 Status: OK CheckDir: geNetClassifier.Rcheck Warnings: 0