Package: geNetClassifier Version: 1.49.0 Command: /Library/Frameworks/R.framework/Resources/bin/R CMD build --keep-empty-dirs --no-resave-data geNetClassifier StartedAt: 2025-10-26 16:33:59 -0400 (Sun, 26 Oct 2025) EndedAt: 2025-10-26 16:34:07 -0400 (Sun, 26 Oct 2025) EllapsedTime: 8.1 seconds RetCode: 0 Status: OK PackageFile: geNetClassifier_1.49.0.tar.gz PackageFileSize: 3.94 MiB