Package: gdsfmt Version: 1.45.2 Command: /home/biocbuild/bbs-3.22-bioc/R/bin/R CMD INSTALL gdsfmt StartedAt: 2025-10-24 15:13:22 -0400 (Fri, 24 Oct 2025) EndedAt: 2025-10-24 15:17:24 -0400 (Fri, 24 Oct 2025) EllapsedTime: 242.0 seconds RetCode: 0 Status: OK