Package: gdsfmt Version: 1.45.2 Command: /Library/Frameworks/R.framework/Resources/bin/R CMD INSTALL gdsfmt StartedAt: 2025-10-27 15:01:31 -0400 (Mon, 27 Oct 2025) EndedAt: 2025-10-27 15:02:34 -0400 (Mon, 27 Oct 2025) EllapsedTime: 63.2 seconds RetCode: 0 Status: OK