Package: gdsfmt Version: 1.45.2 Command: /Library/Frameworks/R.framework/Resources/bin/R CMD build --keep-empty-dirs --no-resave-data gdsfmt StartedAt: 2025-10-27 16:28:22 -0400 (Mon, 27 Oct 2025) EndedAt: 2025-10-27 16:29:28 -0400 (Mon, 27 Oct 2025) EllapsedTime: 66.8 seconds RetCode: 0 Status: OK PackageFile: gdsfmt_1.45.2.tar.gz PackageFileSize: 2.796 MiB