Package: gdsfmt Version: 1.45.2 Command: rm -rf gdsfmt.buildbin-libdir && mkdir gdsfmt.buildbin-libdir && /Users/biocbuild/BBS/utils/build-universal.sh gdsfmt_1.45.2.tar.gz /Library/Frameworks/R.framework/Resources/bin/R gdsfmt.buildbin-libdir StartedAt: 2025-10-27 23:03:21 -0400 (Mon, 27 Oct 2025) EndedAt: 2025-10-27 23:04:36 -0400 (Mon, 27 Oct 2025) EllapsedTime: 74.6 seconds RetCode: 0 Status: OK PackageFile: gdsfmt_1.45.2.tgz PackageFileSize: 1.721 MiB