Package: gcatest Version: 2.9.0 Command: /home/biocbuild/bbs-3.22-bioc/R/bin/R CMD INSTALL gcatest StartedAt: 2025-10-27 15:07:38 -0400 (Mon, 27 Oct 2025) EndedAt: 2025-10-27 15:07:48 -0400 (Mon, 27 Oct 2025) EllapsedTime: 9.2 seconds RetCode: 0 Status: OK