Package: gcapc Version: 1.34.0 Command: /Library/Frameworks/R.framework/Resources/bin/R CMD INSTALL gcapc StartedAt: 2025-11-10 15:16:54 -0500 (Mon, 10 Nov 2025) EndedAt: 2025-11-10 15:17:07 -0500 (Mon, 10 Nov 2025) EllapsedTime: 12.4 seconds RetCode: 0 Status: OK