Package: gcapc Version: 1.34.0 Command: rm -rf gcapc.buildbin-libdir && mkdir gcapc.buildbin-libdir && /Users/biocbuild/BBS/utils/build-universal.sh gcapc_1.34.0.tar.gz /Library/Frameworks/R.framework/Resources/bin/R gcapc.buildbin-libdir StartedAt: 2025-11-10 23:20:44 -0500 (Mon, 10 Nov 2025) EndedAt: 2025-11-10 23:21:00 -0500 (Mon, 10 Nov 2025) EllapsedTime: 16.3 seconds RetCode: 0 Status: OK PackageFile: gcapc_1.34.0.tgz PackageFileSize: 3.87 MiB