Package: gatom Version: 1.8.0 Command: /Library/Frameworks/R.framework/Resources/bin/R CMD INSTALL gatom StartedAt: 2025-11-03 15:26:16 -0500 (Mon, 03 Nov 2025) EndedAt: 2025-11-03 15:26:40 -0500 (Mon, 03 Nov 2025) EllapsedTime: 24.3 seconds RetCode: 0 Status: OK