Package: gatom Version: 1.8.0 Command: /Library/Frameworks/R.framework/Resources/bin/R CMD build --keep-empty-dirs --no-resave-data gatom StartedAt: 2025-11-03 17:05:52 -0500 (Mon, 03 Nov 2025) EndedAt: 2025-11-03 17:12:11 -0500 (Mon, 03 Nov 2025) EllapsedTime: 379.0 seconds RetCode: 0 Status: OK PackageFile: gatom_1.8.0.tar.gz PackageFileSize: 1.609 MiB