Package: gatom Version: 1.7.0 Command: /Library/Frameworks/R.framework/Resources/bin/R CMD INSTALL gatom StartedAt: 2025-10-24 15:11:37 -0400 (Fri, 24 Oct 2025) EndedAt: 2025-10-24 15:11:45 -0400 (Fri, 24 Oct 2025) EllapsedTime: 7.7 seconds RetCode: 0 Status: OK