Package: gatom Version: 1.7.0 Command: /Library/Frameworks/R.framework/Resources/bin/R CMD build --keep-empty-dirs --no-resave-data gatom StartedAt: 2025-10-24 16:29:18 -0400 (Fri, 24 Oct 2025) EndedAt: 2025-10-24 16:31:02 -0400 (Fri, 24 Oct 2025) EllapsedTime: 104.2 seconds RetCode: 0 Status: OK PackageFile: gatom_1.7.0.tar.gz PackageFileSize: 1.611 MiB