Package: garfield Version: 1.37.0 Command: /home/biocbuild/bbs-3.22-bioc/R/bin/R CMD build --keep-empty-dirs --no-resave-data --md5 garfield StartedAt: 2025-10-27 17:43:33 -0400 (Mon, 27 Oct 2025) EndedAt: 2025-10-27 17:43:45 -0400 (Mon, 27 Oct 2025) EllapsedTime: 12.0 seconds RetCode: 0 Status: OK PackageFile: garfield_1.37.0.tar.gz PackageFileSize: 305.6 KiB