Package: gaga Version: 2.56.0 Command: /home/biocbuild/bbs-3.22-bioc/R/bin/R CMD INSTALL gaga StartedAt: 2025-11-14 15:14:38 -0500 (Fri, 14 Nov 2025) EndedAt: 2025-11-14 15:14:51 -0500 (Fri, 14 Nov 2025) EllapsedTime: 12.4 seconds RetCode: 0 Status: OK