Package: gaga Version: 2.56.0 Command: /home/biocbuild/bbs-3.22-bioc/R/bin/R CMD build --keep-empty-dirs --no-resave-data --md5 gaga StartedAt: 2025-11-14 17:46:31 -0500 (Fri, 14 Nov 2025) EndedAt: 2025-11-14 17:46:53 -0500 (Fri, 14 Nov 2025) EllapsedTime: 22.0 seconds RetCode: 0 Status: OK PackageFile: gaga_2.56.0.tar.gz PackageFileSize: 571.4 KiB