Package: gVenn Version: 0.99.5 Command: /home/biocbuild/bbs-3.22-bioc/R/bin/R CMD build --keep-empty-dirs --no-resave-data --md5 gVenn StartedAt: 2025-10-24 18:11:03 -0400 (Fri, 24 Oct 2025) EndedAt: 2025-10-24 18:11:20 -0400 (Fri, 24 Oct 2025) EllapsedTime: 17.0 seconds RetCode: 0 Status: OK PackageFile: gVenn_0.99.5.tar.gz PackageFileSize: 2.001 MiB