Package: gINTomics Version: 1.5.2 Command: /home/biocbuild/bbs-3.22-bioc/R/bin/R CMD INSTALL gINTomics StartedAt: 2025-10-24 16:00:49 -0400 (Fri, 24 Oct 2025) EndedAt: 2025-10-24 16:02:11 -0400 (Fri, 24 Oct 2025) EllapsedTime: 82.0 seconds RetCode: 0 Status: OK