Package: gDRutils Version: 1.7.18 Command: /home/biocbuild/bbs-3.22-bioc/R/bin/R CMD INSTALL gDRutils StartedAt: 2025-10-24 15:48:38 -0400 (Fri, 24 Oct 2025) EndedAt: 2025-10-24 15:49:00 -0400 (Fri, 24 Oct 2025) EllapsedTime: 22.0 seconds RetCode: 0 Status: OK