Package: gDRutils Version: 1.8.0 Command: /home/biocbuild/bbs-3.22-bioc/R/bin/R CMD check --install=check:gDRutils.install-out.txt --library=/home/biocbuild/bbs-3.22-bioc/R/site-library --timings gDRutils_1.8.0.tar.gz StartedAt: 2025-11-06 23:45:56 -0500 (Thu, 06 Nov 2025) EndedAt: 2025-11-06 23:50:31 -0500 (Thu, 06 Nov 2025) EllapsedTime: 275.2 seconds RetCode: 0 Status: OK CheckDir: gDRutils.Rcheck Warnings: 0