Package: gDRutils Version: 1.7.18 Command: /Library/Frameworks/R.framework/Resources/bin/R CMD INSTALL gDRutils StartedAt: 2025-10-24 15:41:47 -0400 (Fri, 24 Oct 2025) EndedAt: 2025-10-24 15:42:19 -0400 (Fri, 24 Oct 2025) EllapsedTime: 31.6 seconds RetCode: 0 Status: OK