Package: gDRutils Version: 1.7.18 Command: /Library/Frameworks/R.framework/Resources/bin/R CMD INSTALL gDRutils StartedAt: 2025-10-24 15:22:31 -0400 (Fri, 24 Oct 2025) EndedAt: 2025-10-24 15:22:40 -0400 (Fri, 24 Oct 2025) EllapsedTime: 9.1 seconds RetCode: 0 Status: OK