Package: gDRutils Version: 1.7.18 Command: /Library/Frameworks/R.framework/Resources/bin/R CMD build --keep-empty-dirs --no-resave-data gDRutils StartedAt: 2025-10-24 16:30:19 -0400 (Fri, 24 Oct 2025) EndedAt: 2025-10-24 16:30:35 -0400 (Fri, 24 Oct 2025) EllapsedTime: 15.2 seconds RetCode: 0 Status: OK PackageFile: gDRutils_1.7.18.tar.gz PackageFileSize: 344.2 KiB