Package: gDRutils Version: 1.7.18 Command: rm -rf gDRutils.buildbin-libdir && mkdir gDRutils.buildbin-libdir && /Users/biocbuild/BBS/utils/build-universal.sh gDRutils_1.7.18.tar.gz /Library/Frameworks/R.framework/Resources/bin/R gDRutils.buildbin-libdir StartedAt: 2025-10-24 23:03:50 -0400 (Fri, 24 Oct 2025) EndedAt: 2025-10-24 23:04:02 -0400 (Fri, 24 Oct 2025) EllapsedTime: 12.2 seconds RetCode: 0 Status: OK PackageFile: gDRutils_1.7.18.tgz PackageFileSize: 690.8 KiB