Package: gDRutils Version: 1.8.0 Maintainer: Arkadiusz Gladki MaintainerEmail: gladki.arkadiusz at gmail.com git_url: https://git.bioconductor.org/packages/gDRutils git_branch: RELEASE_3_22 git_last_commit: b7dd34b git_last_commit_date: 2025-10-29 11:23:43 -0400 (Wed, 29 Oct 2025)