Package: gDRstyle Version: 1.7.4 Command: /home/biocbuild/bbs-3.22-bioc/R/bin/R CMD INSTALL gDRstyle StartedAt: 2025-10-24 15:24:47 -0400 (Fri, 24 Oct 2025) EndedAt: 2025-10-24 15:24:50 -0400 (Fri, 24 Oct 2025) EllapsedTime: 2.8 seconds RetCode: 0 Status: OK