Package: gDRstyle Version: 1.7.4 Command: /home/biocbuild/bbs-3.22-bioc/R/bin/R CMD build --keep-empty-dirs --no-resave-data --md5 gDRstyle StartedAt: 2025-10-24 17:53:45 -0400 (Fri, 24 Oct 2025) EndedAt: 2025-10-24 17:53:51 -0400 (Fri, 24 Oct 2025) EllapsedTime: 6.0 seconds RetCode: 0 Status: OK PackageFile: gDRstyle_1.7.4.tar.gz PackageFileSize: 600.1 KiB