Package: gDRimport Version: 1.7.5 Command: /home/biocbuild/bbs-3.22-bioc/R/bin/R CMD INSTALL gDRimport StartedAt: 2025-10-24 15:49:00 -0400 (Fri, 24 Oct 2025) EndedAt: 2025-10-24 15:49:24 -0400 (Fri, 24 Oct 2025) EllapsedTime: 23.8 seconds RetCode: 0 Status: OK