Package: gDRcore Version: 1.7.8 Command: /home/biocbuild/bbs-3.22-bioc/R/bin/R CMD INSTALL gDRcore StartedAt: 2025-10-24 15:49:02 -0400 (Fri, 24 Oct 2025) EndedAt: 2025-10-24 15:49:16 -0400 (Fri, 24 Oct 2025) EllapsedTime: 14.2 seconds RetCode: 0 Status: OK