Package: gDRcore Version: 1.8.0 Command: /Library/Frameworks/R.framework/Resources/bin/R CMD INSTALL gDRcore StartedAt: 2025-10-31 15:41:37 -0400 (Fri, 31 Oct 2025) EndedAt: 2025-10-31 15:41:59 -0400 (Fri, 31 Oct 2025) EllapsedTime: 22.1 seconds RetCode: 0 Status: OK