Package: gDRcore Version: 1.8.0 Command: /Library/Frameworks/R.framework/Resources/bin/R CMD build --keep-empty-dirs --no-resave-data gDRcore StartedAt: 2025-11-02 17:09:44 -0500 (Sun, 02 Nov 2025) EndedAt: 2025-11-02 17:10:35 -0500 (Sun, 02 Nov 2025) EllapsedTime: 51.5 seconds RetCode: 0 Status: OK PackageFile: gDRcore_1.8.0.tar.gz PackageFileSize: 1.091 MiB