Package: gDRcore Version: 1.7.8 Command: /Library/Frameworks/R.framework/Resources/bin/R CMD INSTALL gDRcore StartedAt: 2025-10-24 15:22:41 -0400 (Fri, 24 Oct 2025) EndedAt: 2025-10-24 15:22:47 -0400 (Fri, 24 Oct 2025) EllapsedTime: 6.1 seconds RetCode: 0 Status: OK