Package: gDRcore Version: 1.7.8 Command: rm -rf gDRcore.buildbin-libdir && mkdir gDRcore.buildbin-libdir && /Users/biocbuild/BBS/utils/build-universal.sh gDRcore_1.7.8.tar.gz /Library/Frameworks/R.framework/Resources/bin/R gDRcore.buildbin-libdir StartedAt: 2025-10-24 23:03:46 -0400 (Fri, 24 Oct 2025) EndedAt: 2025-10-24 23:03:55 -0400 (Fri, 24 Oct 2025) EllapsedTime: 9.2 seconds RetCode: 0 Status: OK PackageFile: gDRcore_1.7.8.tgz PackageFileSize: 1.238 MiB