Package: gDR Version: 1.7.2 Command: /home/biocbuild/bbs-3.22-bioc/R/bin/R CMD INSTALL gDR StartedAt: 2025-10-24 15:49:24 -0400 (Fri, 24 Oct 2025) EndedAt: 2025-10-24 15:49:47 -0400 (Fri, 24 Oct 2025) EllapsedTime: 23.5 seconds RetCode: 0 Status: OK