Package: gDR Version: 1.7.2 Command: /home/biocbuild/bbs-3.22-bioc/R/bin/R CMD build --keep-empty-dirs --no-resave-data --md5 gDR StartedAt: 2025-10-27 17:44:29 -0400 (Mon, 27 Oct 2025) EndedAt: 2025-10-27 17:45:21 -0400 (Mon, 27 Oct 2025) EllapsedTime: 52.0 seconds RetCode: 0 Status: OK PackageFile: gDR_1.7.2.tar.gz PackageFileSize: 277 KiB