Package: gDNAx Version: 1.7.3 Command: /home/biocbuild/bbs-3.22-bioc/R/bin/R CMD INSTALL gDNAx StartedAt: 2025-10-24 16:08:55 -0400 (Fri, 24 Oct 2025) EndedAt: 2025-10-24 16:09:40 -0400 (Fri, 24 Oct 2025) EllapsedTime: 44.2 seconds RetCode: 0 Status: OK