Package: gDNAx Version: 1.7.3 Command: /home/biocbuild/bbs-3.22-bioc/R/bin/R CMD build --keep-empty-dirs --no-resave-data --md5 gDNAx StartedAt: 2025-10-24 17:53:17 -0400 (Fri, 24 Oct 2025) EndedAt: 2025-10-24 17:56:29 -0400 (Fri, 24 Oct 2025) EllapsedTime: 191.2 seconds RetCode: 0 Status: OK PackageFile: gDNAx_1.7.3.tar.gz PackageFileSize: 737.4 KiB