Package: gDNAx Version: 1.8.0 Command: /Library/Frameworks/R.framework/Resources/bin/R CMD INSTALL gDNAx StartedAt: 2025-11-10 15:30:01 -0500 (Mon, 10 Nov 2025) EndedAt: 2025-11-10 15:30:22 -0500 (Mon, 10 Nov 2025) EllapsedTime: 21.7 seconds RetCode: 0 Status: OK