Package: gDNAx Version: 1.8.0 Command: /Library/Frameworks/R.framework/Resources/bin/R CMD build --keep-empty-dirs --no-resave-data gDNAx StartedAt: 2025-11-10 16:27:31 -0500 (Mon, 10 Nov 2025) EndedAt: 2025-11-10 16:29:05 -0500 (Mon, 10 Nov 2025) EllapsedTime: 94.0 seconds RetCode: 0 Status: OK PackageFile: gDNAx_1.8.0.tar.gz PackageFileSize: 740.6 KiB