Package: gCrisprTools Version: 2.15.0 Command: /home/biocbuild/bbs-3.22-bioc/R/bin/R CMD build --keep-empty-dirs --no-resave-data --md5 gCrisprTools StartedAt: 2025-10-24 17:53:03 -0400 (Fri, 24 Oct 2025) EndedAt: 2025-10-24 17:56:59 -0400 (Fri, 24 Oct 2025) EllapsedTime: 235.2 seconds RetCode: 0 Status: OK PackageFile: gCrisprTools_2.15.0.tar.gz PackageFileSize: 4.393 MiB