Package: gCrisprTools Version: 2.16.0 Command: /Library/Frameworks/R.framework/Resources/bin/R CMD INSTALL gCrisprTools StartedAt: 2025-11-10 15:11:57 -0500 (Mon, 10 Nov 2025) EndedAt: 2025-11-10 15:12:09 -0500 (Mon, 10 Nov 2025) EllapsedTime: 11.7 seconds RetCode: 0 Status: OK