Package: gCrisprTools Version: 2.16.0 Command: /Library/Frameworks/R.framework/Resources/bin/R CMD build --keep-empty-dirs --no-resave-data gCrisprTools StartedAt: 2025-11-10 16:27:15 -0500 (Mon, 10 Nov 2025) EndedAt: 2025-11-10 16:29:07 -0500 (Mon, 10 Nov 2025) EllapsedTime: 112.2 seconds RetCode: 0 Status: OK PackageFile: gCrisprTools_2.16.0.tar.gz PackageFileSize: 4.713 MiB