Package: funtooNorm Version: 1.33.0 Command: /home/biocbuild/bbs-3.22-bioc/R/bin/R CMD INSTALL funtooNorm StartedAt: 2025-10-24 15:56:45 -0400 (Fri, 24 Oct 2025) EndedAt: 2025-10-24 15:57:29 -0400 (Fri, 24 Oct 2025) EllapsedTime: 43.8 seconds RetCode: 0 Status: OK