Package: funOmics Version: 1.3.0 Command: /home/biocbuild/bbs-3.22-bioc/R/bin/R CMD INSTALL funOmics StartedAt: 2025-10-24 15:36:41 -0400 (Fri, 24 Oct 2025) EndedAt: 2025-10-24 15:36:58 -0400 (Fri, 24 Oct 2025) EllapsedTime: 16.8 seconds RetCode: 0 Status: OK