Package: funOmics Version: 1.3.0 Command: /home/biocbuild/bbs-3.22-bioc/R/bin/R CMD build --keep-empty-dirs --no-resave-data --md5 funOmics StartedAt: 2025-10-24 17:51:54 -0400 (Fri, 24 Oct 2025) EndedAt: 2025-10-24 17:57:37 -0400 (Fri, 24 Oct 2025) EllapsedTime: 342.4 seconds RetCode: 0 Status: OK PackageFile: funOmics_1.3.0.tar.gz PackageFileSize: 52.85 KiB