Package: frmaTools Version: 1.61.0 Command: /home/biocbuild/bbs-3.22-bioc/R/bin/R CMD build --keep-empty-dirs --no-resave-data --md5 frmaTools StartedAt: 2025-10-24 17:51:40 -0400 (Fri, 24 Oct 2025) EndedAt: 2025-10-24 17:51:54 -0400 (Fri, 24 Oct 2025) EllapsedTime: 14.0 seconds RetCode: 0 Status: OK PackageFile: frmaTools_1.61.0.tar.gz PackageFileSize: 158.2 KiB