Package: fobitools Version: 1.17.0 Command: /home/biocbuild/bbs-3.22-bioc/R/bin/R CMD build --keep-empty-dirs --no-resave-data --md5 fobitools StartedAt: 2025-10-24 17:51:18 -0400 (Fri, 24 Oct 2025) EndedAt: 2025-10-24 17:52:29 -0400 (Fri, 24 Oct 2025) EllapsedTime: 71.1 seconds RetCode: 0 Status: OK PackageFile: fobitools_1.17.0.tar.gz PackageFileSize: 4.97 MiB