Package: fobitools Version: 1.18.0 Command: /Library/Frameworks/R.framework/Resources/bin/R CMD INSTALL fobitools StartedAt: 2025-11-03 15:16:57 -0500 (Mon, 03 Nov 2025) EndedAt: 2025-11-03 15:17:39 -0500 (Mon, 03 Nov 2025) EllapsedTime: 42.6 seconds RetCode: 0 Status: OK