Package: fobitools Version: 1.18.0 Command: /Library/Frameworks/R.framework/Resources/bin/R CMD build --keep-empty-dirs --no-resave-data fobitools StartedAt: 2025-11-03 17:04:32 -0500 (Mon, 03 Nov 2025) EndedAt: 2025-11-03 17:06:07 -0500 (Mon, 03 Nov 2025) EllapsedTime: 94.9 seconds RetCode: 0 Status: OK PackageFile: fobitools_1.18.0.tar.gz PackageFileSize: 4.767 MiB